BEGIN:VCALENDAR
PRODID:-//AT Content Types//AT Event//EN
VERSION:1.0
BEGIN:VEVENT
DTSTART:20220624T070000Z
DTEND:20220624T150000Z
DCREATED:20220620T101109Z
UID:ATEvent-4aae5d4e133f4d12a857e62a081777a2
SEQUENCE:0
LAST-MODIFIED:20220620T101349Z
SUMMARY:Presentazione del nuovo Piano Rifiuti: verso l'economia circolare
LOCATION:Milano
PRIORITY:3
TRANSP:0
END:VEVENT
END:VCALENDAR
