BEGIN:VCALENDAR
PRODID:-//AT Content Types//AT Event//EN
VERSION:2.0
METHOD:PUBLISH
BEGIN:VEVENT
DTSTAMP:20260424T125856Z
CREATED:20230220T170318Z
UID:ATEvent-98d8f32375104ef581233ec74917798a
LAST-MODIFIED:20230220T170351Z
SUMMARY:Presentazione del nuovo modello WHP e accreditamento delle aziende per il 2022
DTSTART:20230223T150000Z
DTEND:20230223T163000Z
LOCATION:Bergamo
CLASS:PUBLIC
END:VEVENT
END:VCALENDAR
