BEGIN:VCALENDAR
PRODID:-//AT Content Types//AT Event//EN
VERSION:2.0
METHOD:PUBLISH
BEGIN:VEVENT
DTSTAMP:20260424T053111Z
CREATED:20230130T105102Z
UID:ATEvent-92ed477614594d9aa0a8070dd13c8d18
LAST-MODIFIED:20230220T084852Z
SUMMARY:Presentazione dei risultati dell'Indagine sul cambiamento climatico e le strategie delle imprese
DTSTART:20230215T090000Z
DTEND:20230215T120000Z
LOCATION:Milano
CONTACT:Marcello Panzone\, m.panzone@confindustria.lombardia.it
CLASS:PUBLIC
END:VEVENT
END:VCALENDAR
