BEGIN:VCALENDAR
PRODID:-//AT Content Types//AT Event//EN
VERSION:1.0
BEGIN:VEVENT
DTSTART:20180305T093000Z
DTEND:20180305T153000Z
DCREATED:20180301T165657Z
UID:ATEvent-87c7c29d5ec0411bbe34510f88ec36a2
SEQUENCE:0
LAST-MODIFIED:20180301T165753Z
SUMMARY:Premio Imprese x l’innovazione - (IxI) giunto alla IX edizione
LOCATION:Bergamo
PRIORITY:3
TRANSP:0
END:VEVENT
END:VCALENDAR
