BEGIN:VCALENDAR
PRODID:-//AT Content Types//AT Event//EN
VERSION:1.0
BEGIN:VEVENT
DTSTART:20210113T090000Z
DTEND:20210113T103000Z
DCREATED:20210108T102001Z
UID:ATEvent-8b3f8ed3ae8540d1b08ebff5fa6128dd
SEQUENCE:0
LAST-MODIFIED:20210108T102005Z
SUMMARY:Post Brexit: export control\, conformità ed etichettatura dei prodotti
LOCATION:On line
PRIORITY:3
TRANSP:0
END:VEVENT
END:VCALENDAR
