BEGIN:VCALENDAR
PRODID:-//AT Content Types//AT Event//EN
VERSION:2.0
METHOD:PUBLISH
BEGIN:VEVENT
DTSTAMP:20260424T123314Z
CREATED:20230320T142640Z
UID:ATEvent-8d04b5a64d8d4a57adee7d94b84cb84e
LAST-MODIFIED:20230320T202005Z
SUMMARY:Pomeriggio della dogana di Assolombarda
DTSTART:20230404T123000Z
DTEND:20230404T150000Z
DESCRIPTION:One to one per rispondere a esigenze specifiche in materia
  di procedure e semplificazioni doganali.
LOCATION:On line
CLASS:PUBLIC
END:VEVENT
END:VCALENDAR
