BEGIN:VCALENDAR
PRODID:-//AT Content Types//AT Event//EN
VERSION:2.0
METHOD:PUBLISH
BEGIN:VEVENT
DTSTAMP:20260424T100021Z
CREATED:20211203T104151Z
UID:ATEvent-9a9c28b83efd4ae18248433323f72da2
LAST-MODIFIED:20211203T104157Z
SUMMARY:Pomeriggi della dogana di Assolombarda\, prenota il tuo web meeting con l’esperto
DTSTART:20211213T133000Z
DTEND:20211213T163000Z
DESCRIPTION:One-to-one per rispondere a esigenze specifiche in materia
  di procedure e semplificazioni doganali.
LOCATION:On line
CLASS:PUBLIC
END:VEVENT
END:VCALENDAR
