BEGIN:VCALENDAR
PRODID:-//AT Content Types//AT Event//EN
VERSION:2.0
METHOD:PUBLISH
BEGIN:VEVENT
DTSTAMP:20260424T080708Z
CREATED:20210902T154441Z
UID:ATEvent-826c604594f44919bbd5524d2beec204
LAST-MODIFIED:20210902T154448Z
SUMMARY:Pomeriggi della dogana di Assolombarda\, prenota il tuo web meeting con l’esperto
DTSTART:20210908T123000Z
DTEND:20210908T153000Z
LOCATION:On line
CLASS:PUBLIC
END:VEVENT
END:VCALENDAR
