BEGIN:VCALENDAR
PRODID:-//AT Content Types//AT Event//EN
VERSION:2.0
METHOD:PUBLISH
BEGIN:VEVENT
DTSTAMP:20260425T143016Z
CREATED:20161103T162739Z
UID:ATEvent-32beb006033c47e091ceb23b8ab82f03
LAST-MODIFIED:20161103T163118Z
SUMMARY:Polonia: potenziare la cooperazione economica bilaterale
DTSTART:20161107T083000Z
DTEND:20161107T170000Z
LOCATION:Roma
CLASS:PUBLIC
END:VEVENT
END:VCALENDAR
