BEGIN:VCALENDAR
PRODID:-//AT Content Types//AT Event//EN
VERSION:2.0
METHOD:PUBLISH
BEGIN:VEVENT
DTSTAMP:20260424T155020Z
CREATED:20210324T212050Z
UID:ATEvent-7a15fc0f384742bab27e43be77c5f95e
LAST-MODIFIED:20210324T212112Z
SUMMARY:PmidayVarese2020: cerimonia di premiazione
DTSTART:20210326T100000Z
DTEND:20210326T110000Z
LOCATION:On line
CLASS:PUBLIC
END:VEVENT
END:VCALENDAR
