BEGIN:VCALENDAR
PRODID:-//AT Content Types//AT Event//EN
VERSION:1.0
BEGIN:VEVENT
DTSTART:20250520T143000Z
DTEND:20250520T170000Z
DCREATED:20250505T152514Z
UID:ATEvent-ad313076b68d437abbeae26ad6bc43ed
SEQUENCE:0
LAST-MODIFIED:20250513T103543Z
SUMMARY:PMI in campo: fare squadra per crescere
DESCRIPTION:Assemblea del Comitato Piccola Industria di Confindustria 
 Bergamo
LOCATION:Bergamo
PRIORITY:3
TRANSP:0
END:VEVENT
END:VCALENDAR
