BEGIN:VCALENDAR
PRODID:-//AT Content Types//AT Event//EN
VERSION:1.0
BEGIN:VEVENT
DTSTART:20221118T090000Z
DTEND:20221118T190000Z
DCREATED:20221010T133252Z
UID:ATEvent-681ea96fcbd94e2fa687a748805083f4
SEQUENCE:0
LAST-MODIFIED:20221010T152756Z
SUMMARY:PMI DAY - Industriamoci
DESCRIPTION:Tredicesima giornata nazionale delle piccole e medie impre
 se
PRIORITY:3
TRANSP:0
END:VEVENT
END:VCALENDAR
