BEGIN:VCALENDAR
PRODID:-//AT Content Types//AT Event//EN
VERSION:2.0
METHOD:PUBLISH
BEGIN:VEVENT
DTSTAMP:20260421T092801Z
CREATED:20230925T095503Z
UID:ATEvent-08b78828023c41839231e65e307a3287
LAST-MODIFIED:20231006T152511Z
SUMMARY:PMI DAY 2023
DTSTART:20231117T090000Z
DTEND:20231117T170000Z
CLASS:PUBLIC
END:VEVENT
END:VCALENDAR
