BEGIN:VCALENDAR
PRODID:-//AT Content Types//AT Event//EN
VERSION:2.0
METHOD:PUBLISH
BEGIN:VEVENT
DTSTAMP:20260421T202746Z
CREATED:20240518T154845Z
UID:ATEvent-faff59eab0644362a35439e0ecf6cff4
LAST-MODIFIED:20240518T154937Z
SUMMARY:PMI\, Accesso al credito\, paradigma ESG - Il sistema produttivo bresciano e le sfide della sostenibilitÃ 
DTSTART:20240521T150000Z
DTEND:20240521T164500Z
DESCRIPTION:Il seminario\, promosso da Confindustria Brescia e Univers
 itÃ  Cattolica del Sacro Cuore\, si propone di esaminare il rapporto B
 anca-Impresa nellâ€™attuale fase di transizione verso la sostenibilitÃ
  .
LOCATION:Brescia
CLASS:PUBLIC
END:VEVENT
END:VCALENDAR
