BEGIN:VCALENDAR
PRODID:-//AT Content Types//AT Event//EN
VERSION:1.0
BEGIN:VEVENT
DTSTART:20211216T160000Z
DTEND:20211216T173000Z
DCREATED:20211214T231732Z
UID:ATEvent-9ae4fb43a0474ab59c55df17d921c4da
SEQUENCE:0
LAST-MODIFIED:20211214T231914Z
SUMMARY:PMI ACADEMY: "Per Utilizzare l'Intelligenza Artificiale serve prima quella Umana!”
DESCRIPTION:Tra etica e concretezza: casi reali e spunti per applicare
  la tecnologia che sta già rivoluzionando il presente.
LOCATION:Brescia e On line
PRIORITY:3
TRANSP:0
END:VEVENT
END:VCALENDAR
