BEGIN:VCALENDAR
PRODID:-//AT Content Types//AT Event//EN
VERSION:2.0
METHOD:PUBLISH
BEGIN:VEVENT
DTSTAMP:20260424T080503Z
CREATED:20240205T090921Z
UID:ATEvent-71c5832b1dbb4d5f9eb96256753acfed
LAST-MODIFIED:20240209T134657Z
SUMMARY:Plastic Tax in Spagna e UK: gli obblighi per gli esportatori
DTSTART:20240222T090000Z
DTEND:20240222T110000Z
LOCATION:Online
CLASS:PUBLIC
END:VEVENT
END:VCALENDAR
