BEGIN:VCALENDAR
PRODID:-//AT Content Types//AT Event//EN
VERSION:2.0
METHOD:PUBLISH
BEGIN:VEVENT
DTSTAMP:20260424T040901Z
CREATED:20230303T105120Z
UID:ATEvent-c153b1be48bb4be9937063c0dd7e1d08
LAST-MODIFIED:20230303T111511Z
SUMMARY:PIMAP4Sustainability Matchmaking 2023
DTSTART:20230314T090000Z
DTEND:20230314T160000Z
DESCRIPTION:Prima Open Call - Fotonica\, materiali avanzati e tecnolog
 ie manifatturiere per aerospazio\, metallurgia e produzione industrial
 e
LOCATION:On line
CLASS:PUBLIC
END:VEVENT
END:VCALENDAR
