BEGIN:VCALENDAR
PRODID:-//AT Content Types//AT Event//EN
VERSION:1.0
BEGIN:VEVENT
DTSTART:20210722T143000Z
DTEND:20210722T153000Z
DCREATED:20210720T185812Z
UID:ATEvent-0dda5571e2f84e29bb1c1f2b802eb131
SEQUENCE:0
LAST-MODIFIED:20210720T185820Z
SUMMARY:Piano Nazionale di Ripresa e Resilienza - La sostenibilità per crescere ed accelerare
DESCRIPTION:5° appuntamento della serie: “SummIT in pillole”\, i 
 digital talk del Terziario
LOCATION:On line
PRIORITY:3
TRANSP:0
END:VEVENT
END:VCALENDAR
