BEGIN:VCALENDAR
PRODID:-//AT Content Types//AT Event//EN
VERSION:2.0
METHOD:PUBLISH
BEGIN:VEVENT
DTSTAMP:20260421T094708Z
CREATED:20231009T092741Z
UID:ATEvent-45618a09b5dc408db31cce8611598379
LAST-MODIFIED:20231013T101636Z
SUMMARY:Piano Mirato di prevenzione e vigilanza di ATS Bergamo: tecnologie per la sicurezza nella movimentazione di materiali
DTSTART:20231017T123000Z
DTEND:20231017T140000Z
LOCATION:Online
CLASS:PUBLIC
END:VEVENT
END:VCALENDAR
