BEGIN:VCALENDAR
PRODID:-//AT Content Types//AT Event//EN
VERSION:1.0
BEGIN:VEVENT
DTSTART:20231214T083000Z
DTEND:20231214T103000Z
DCREATED:20231210T160859Z
UID:ATEvent-02c653a49f5c478ba6ef69880c33fbfa
SEQUENCE:0
LAST-MODIFIED:20231210T160925Z
SUMMARY:Piano Cave provinciale sabbia ghiaia e argilla: incontro con Provincia sulla fase post approvazione
DESCRIPTION:Adempimenti e linee guida in materia ambientale
LOCATION:Brescia
PRIORITY:3
TRANSP:0
END:VEVENT
END:VCALENDAR
