BEGIN:VCALENDAR
PRODID:-//AT Content Types//AT Event//EN
VERSION:1.0
BEGIN:VEVENT
DTSTART:20241015T130000Z
DTEND:20241015T141000Z
DCREATED:20241007T145634Z
UID:ATEvent-3959671ccfed416cb728670fc7d888a9
SEQUENCE:0
LAST-MODIFIED:20241007T150101Z
SUMMARY:Personale tecnico all'estero: presentazione dell’edizione 2024 della "Guida al distacco transnazionale in Unione Europea"
LOCATION:online
PRIORITY:3
TRANSP:0
END:VEVENT
END:VCALENDAR
