BEGIN:VCALENDAR
PRODID:-//AT Content Types//AT Event//EN
VERSION:1.0
BEGIN:VEVENT
DTSTART:20210914T150000Z
DTEND:20210914T170000Z
DCREATED:20210907T090230Z
UID:ATEvent-ddfdacbeda02480f884959aa59e66d21
SEQUENCE:0
LAST-MODIFIED:20210907T090239Z
SUMMARY:Performance economico-finanziarie e scelte consapevoli
DESCRIPTION:Sesto appuntamento del ciclo di incontri "Figli del Capo" 
 dedicato a figli di imprenditori.
LOCATION:On line
PRIORITY:3
TRANSP:0
END:VEVENT
END:VCALENDAR
