BEGIN:VCALENDAR
PRODID:-//AT Content Types//AT Event//EN
VERSION:2.0
METHOD:PUBLISH
BEGIN:VEVENT
DTSTAMP:20260424T095705Z
CREATED:20230327T125908Z
UID:ATEvent-e68db8a5f793452e933721318b7bafad
LAST-MODIFIED:20230327T143014Z
SUMMARY:Pavia Capitale della Cultura d’impresa 2023 - Cerimonia di inaugurazione
DTSTART:20230404T080000Z
DTEND:20230404T100000Z
DESCRIPTION:Il 4 aprile\, presso l’Aula Magna dell’Università di 
 Pavia\, si terrà la cerimonia inaugurale "Pavia Supernova" che vedrà
  la partecipazione dei più importanti attori istituzionali nazionali 
 e internazionali.
LOCATION:Pavia
CLASS:PUBLIC
END:VEVENT
END:VCALENDAR
