BEGIN:VCALENDAR
PRODID:-//AT Content Types//AT Event//EN
VERSION:1.0
BEGIN:VEVENT
DTSTART:20240228T164500Z
DTEND:20240228T180000Z
DCREATED:20240219T125202Z
UID:ATEvent-d76b2288145a4249ac49840559e24912
SEQUENCE:0
LAST-MODIFIED:20240219T130717Z
SUMMARY:Patto Per Le Arti: MA*GA e Confindustria Varese insieme per la cultura
LOCATION:Gallarate
PRIORITY:3
TRANSP:0
END:VEVENT
END:VCALENDAR
