BEGIN:VCALENDAR
PRODID:-//AT Content Types//AT Event//EN
VERSION:2.0
METHOD:PUBLISH
BEGIN:VEVENT
DTSTAMP:20260421T224854Z
CREATED:20220228T161809Z
UID:ATEvent-db39fc35a653469b850a6dd0d12bb1c0
LAST-MODIFIED:20220228T162228Z
SUMMARY:Partenariati estesi: incontro con le università lombarde
DTSTART:20220304T083000Z
DTEND:20220304T103000Z
DESCRIPTION:Incontro dedicato alla presentazione delle progettualità 
 delle Università lombarde\, nell'ambito dei Partenariati Estesi\, nei
  filoni legati alle Scienze della Vita.
CLASS:PUBLIC
END:VEVENT
END:VCALENDAR
