BEGIN:VCALENDAR
PRODID:-//AT Content Types//AT Event//EN
VERSION:2.0
METHOD:PUBLISH
BEGIN:VEVENT
DTSTAMP:20260424T095608Z
CREATED:20220622T094932Z
UID:ATEvent-0a038ea2eadc4b1abb8a847be3047d52
LAST-MODIFIED:20220622T094937Z
SUMMARY:Pari opportunità e contrasto alle discriminazioni di genere
DTSTART:20220628T140000Z
DTEND:20220628T153000Z
LOCATION:On line
CLASS:PUBLIC
END:VEVENT
END:VCALENDAR
