BEGIN:VCALENDAR
PRODID:-//AT Content Types//AT Event//EN
VERSION:1.0
BEGIN:VEVENT
DTSTART:20161124T090000Z
DTEND:20161124T120000Z
DCREATED:20161109T163437Z
UID:ATEvent-e2b61daf9cf94314b452143f8fb84b47
SEQUENCE:0
LAST-MODIFIED:20161109T163510Z
SUMMARY:Pagamenti internazionali
LOCATION:Milano
PRIORITY:3
TRANSP:0
END:VEVENT
END:VCALENDAR
