BEGIN:VCALENDAR
PRODID:-//AT Content Types//AT Event//EN
VERSION:1.0
BEGIN:VEVENT
DTSTART:20221019T080000Z
DTEND:20221019T100000Z
DCREATED:20221013T085845Z
UID:ATEvent-c4f554c36c224fe0bf39ad564d6b646e
SEQUENCE:0
LAST-MODIFIED:20221014T182629Z
SUMMARY:Paesi del Golfo - focus Emirati e Arabia Saudita: scienze della vita e Saudi Vision 2030. Quali opportunità in diversi settori.
LOCATION:Online
PRIORITY:3
TRANSP:0
END:VEVENT
END:VCALENDAR
