BEGIN:VCALENDAR
PRODID:-//AT Content Types//AT Event//EN
VERSION:2.0
METHOD:PUBLISH
BEGIN:VEVENT
DTSTAMP:20260424T041449Z
CREATED:20210901T132342Z
UID:ATEvent-e6ab89504158400c9862939e38f7587f
LAST-MODIFIED:20210909T103521Z
SUMMARY:Overview of China’s Biopharma Sector: Market Access & IP Rights
DTSTART:20210910T080000Z
DTEND:20210910T100000Z
LOCATION:On line
CLASS:PUBLIC
END:VEVENT
END:VCALENDAR
