BEGIN:VCALENDAR
PRODID:-//AT Content Types//AT Event//EN
VERSION:2.0
METHOD:PUBLISH
BEGIN:VEVENT
DTSTAMP:20260421T110010Z
CREATED:20220223T130917Z
UID:ATEvent-cce50b1e3e4140d8af04b735e8b58cc8
LAST-MODIFIED:20220223T131036Z
SUMMARY:Orizzonti multimediali 2021-2022: dialoghi tra aziende e Università
DTSTART:20220224T163000Z
DTEND:20220224T173000Z
LOCATION:Brescia e On line
CLASS:PUBLIC
END:VEVENT
END:VCALENDAR
