BEGIN:VCALENDAR
PRODID:-//AT Content Types//AT Event//EN
VERSION:1.0
BEGIN:VEVENT
DTSTART:20210330T150000Z
DTEND:20210330T170000Z
DCREATED:20210324T222033Z
UID:ATEvent-a3e105bb42064b9882d469928702254b
SEQUENCE:0
LAST-MODIFIED:20210324T222059Z
SUMMARY:Organizzazione e management
DESCRIPTION:Il primo appuntamento del ciclo di incontri "Figli del Cap
 o" dedicato a figli di imprenditori
LOCATION:On line
PRIORITY:3
TRANSP:0
END:VEVENT
END:VCALENDAR
