BEGIN:VCALENDAR
PRODID:-//AT Content Types//AT Event//EN
VERSION:2.0
METHOD:PUBLISH
BEGIN:VEVENT
DTSTAMP:20260424T064606Z
CREATED:20190530T161140Z
UID:ATEvent-e0e0083783c74a9c8665f187f3d66ab8
LAST-MODIFIED:20190603T160124Z
SUMMARY:Organizzazione e management di una azienda familiare
DTSTART:20190619T150000Z
DTEND:20190619T173000Z
DESCRIPTION:Ciclo di eventi "Riunioni di famiglia"
LOCATION:Milano
CLASS:PUBLIC
END:VEVENT
END:VCALENDAR
