BEGIN:VCALENDAR
PRODID:-//AT Content Types//AT Event//EN
VERSION:1.0
BEGIN:VEVENT
DTSTART:20160706T121500Z
DTEND:20160706T153000Z
DCREATED:20160613T160914Z
UID:ATEvent-cd601a9039c44064a20507dfc82eaaf5
SEQUENCE:0
LAST-MODIFIED:20160613T161105Z
SUMMARY:Opportunità tecnologiche nel settore della robotica
DESCRIPTION:e stampa 3D per il manifatturiero avanzato
LOCATION:Milano
PRIORITY:3
TRANSP:0
END:VEVENT
END:VCALENDAR
