BEGIN:VCALENDAR
PRODID:-//AT Content Types//AT Event//EN
VERSION:1.0
BEGIN:VEVENT
DTSTART:20160629T121500Z
DTEND:20160629T153000Z
DCREATED:20160613T152438Z
UID:ATEvent-6d0c793b9aa14158bd3705c11b0477ce
SEQUENCE:0
LAST-MODIFIED:20160613T152452Z
SUMMARY:Opportunità tecnologiche nei settori del disinquinamento e bonifiche
LOCATION:Milano
PRIORITY:3
TRANSP:0
END:VEVENT
END:VCALENDAR
