BEGIN:VCALENDAR
PRODID:-//AT Content Types//AT Event//EN
VERSION:2.0
METHOD:PUBLISH
BEGIN:VEVENT
DTSTAMP:20260424T070356Z
CREATED:20200521T100508Z
UID:ATEvent-69d1ff1dc96f4ac2bf5291e70d79ec49
LAST-MODIFIED:20200521T100535Z
SUMMARY:Opportunità nel settore del Biogas in Sud Africa
DTSTART:20200610T080000Z
DTEND:20200610T093000Z
LOCATION:Webinar
CLASS:PUBLIC
END:VEVENT
END:VCALENDAR
