BEGIN:VCALENDAR
PRODID:-//AT Content Types//AT Event//EN
VERSION:1.0
BEGIN:VEVENT
DTSTART:20211215T093000Z
DTEND:20211215T110000Z
DCREATED:20211214T233626Z
UID:ATEvent-b9e499227fce44638cf5429da8d986f4
SEQUENCE:0
LAST-MODIFIED:20211214T233632Z
SUMMARY:Operazioni con l’estero dal 2022: trasmissione della e-fattura
LOCATION:On line
PRIORITY:3
TRANSP:0
END:VEVENT
END:VCALENDAR
