BEGIN:VCALENDAR
PRODID:-//AT Content Types//AT Event//EN
VERSION:2.0
METHOD:PUBLISH
BEGIN:VEVENT
DTSTAMP:20260423T122400Z
CREATED:20230508T142639Z
UID:ATEvent-875828d849a848cbb08ea0b2efeeafb8
LAST-MODIFIED:20230508T170948Z
SUMMARY:Open PLANCKS 2023
DTSTART:20230513T070000Z
DTEND:20230513T113000Z
DESCRIPTION:Evento aperto al pubblico in occasione dei PLANCKS 2023.
LOCATION:Milano
CLASS:PUBLIC
END:VEVENT
END:VCALENDAR
