BEGIN:VCALENDAR
PRODID:-//AT Content Types//AT Event//EN
VERSION:2.0
METHOD:PUBLISH
BEGIN:VEVENT
DTSTAMP:20260422T191031Z
CREATED:20240531T210256Z
UID:ATEvent-e657a163d46f4b8e8586e2e6cc481fae
LAST-MODIFIED:20240531T210454Z
SUMMARY:Open Mind Tour:  JRC Ispra
DTSTART:20240625T120000Z
DTEND:20240625T155000Z
LOCATION:Ispra
CLASS:PUBLIC
END:VEVENT
END:VCALENDAR
