BEGIN:VCALENDAR
PRODID:-//AT Content Types//AT Event//EN
VERSION:2.0
METHOD:PUBLISH
BEGIN:VEVENT
DTSTAMP:20260421T174721Z
CREATED:20240321T113617Z
UID:ATEvent-36cd3863a403406d89522f3458219d39
LAST-MODIFIED:20240404T100020Z
SUMMARY:Open Mind - Summit
DTSTART:20240522T090000Z
DTEND:20240524T145000Z
LOCATION:Parigi
CLASS:PUBLIC
END:VEVENT
END:VCALENDAR
