BEGIN:VCALENDAR
PRODID:-//AT Content Types//AT Event//EN
VERSION:1.0
BEGIN:VEVENT
DTSTART:20190417T070000Z
DTEND:20190417T153000Z
DCREATED:20190410T192545Z
UID:ATEvent-150fd17754c745ba8ccf62b05b35fb04
SEQUENCE:0
LAST-MODIFIED:20190410T192608Z
SUMMARY:Open Lab il report di sostenibilità
DESCRIPTION:Come misurare il valore delle imprese
LOCATION:Como
PRIORITY:3
TRANSP:0
END:VEVENT
END:VCALENDAR
