BEGIN:VCALENDAR
PRODID:-//AT Content Types//AT Event//EN
VERSION:1.0
BEGIN:VEVENT
DTSTART:20230525T150000Z
DTEND:20230525T170000Z
DCREATED:20230522T141158Z
UID:ATEvent-aedba565e4ef4eeea54c4a99c7a00755
SEQUENCE:0
LAST-MODIFIED:20230531T151956Z
SUMMARY:Open Innovation nelle aziende familiari
DESCRIPTION:Riprendono gli incontri “Riunioni di famiglia”\, appro
 fondimenti dedicati alle Aziende Familiari.
LOCATION:Milano
PRIORITY:3
TRANSP:0
END:VEVENT
END:VCALENDAR
