BEGIN:VCALENDAR
PRODID:-//AT Content Types//AT Event//EN
VERSION:2.0
METHOD:PUBLISH
BEGIN:VEVENT
DTSTAMP:20260424T181800Z
CREATED:20211126T145020Z
UID:ATEvent-48b642afb56c4e949922612128033c32
LAST-MODIFIED:20211126T145048Z
SUMMARY:Open Innovation and Digital Health
DTSTART:20211203T103000Z
DTEND:20211203T123000Z
DESCRIPTION:Un workshop organizzato da Assolombarda e Farmindustria\, 
 in occasione di Connext\, dedicato ai temi dell'innovazione e della sa
 lute digitale all'interno del settore delle scienze della vita.
LOCATION:Milano e On line
CLASS:PUBLIC
END:VEVENT
END:VCALENDAR
