BEGIN:VCALENDAR
PRODID:-//AT Content Types//AT Event//EN
VERSION:2.0
METHOD:PUBLISH
BEGIN:VEVENT
DTSTAMP:20260424T041810Z
CREATED:20180703T150559Z
UID:ATEvent-4d27d89c4fba454794b02d6c2bdd0ac7
LAST-MODIFIED:20180706T095958Z
SUMMARY:Open Desk per ricercare partner commerciali e industriali internazionali
DTSTART:20180712T073000Z
DTEND:20180712T130000Z
DESCRIPTION:Assolombarda Confindustria Milano\, Monza e Brianza\, Lodi
  in collaborazione con Confindustria Lombardia - membro rete Enterpris
 e Europe Network
LOCATION:Milano
CLASS:PUBLIC
END:VEVENT
END:VCALENDAR
