BEGIN:VCALENDAR
PRODID:-//AT Content Types//AT Event//EN
VERSION:1.0
BEGIN:VEVENT
DTSTART:20180704T150000Z
DTEND:20180704T170000Z
DCREATED:20180629T101026Z
UID:ATEvent-cfa8d877a29e4304b5ffefc4de0bf07a
SEQUENCE:0
LAST-MODIFIED:20180704T132225Z
SUMMARY:CANCELLATO! Oltre la banca: le opportunità di credito proposte dal mondo Fintech
LOCATION:Como
PRIORITY:3
TRANSP:0
END:VEVENT
END:VCALENDAR
