BEGIN:VCALENDAR
PRODID:-//AT Content Types//AT Event//EN
VERSION:2.0
METHOD:PUBLISH
BEGIN:VEVENT
DTSTAMP:20260425T122737Z
CREATED:20200724T101359Z
UID:ATEvent-c061776bbb7a438e837b1843d279fdd0
LAST-MODIFIED:20200724T101454Z
SUMMARY:Oltre il Covid 19 - Benessere individuale e legami comunitari
DTSTART:20200728T120000Z
DTEND:20200728T130000Z
DESCRIPTION:Lo scenario e le opportunità nei luoghi di lavoro
LOCATION:Webinar
CLASS:PUBLIC
END:VEVENT
END:VCALENDAR
