BEGIN:VCALENDAR
PRODID:-//AT Content Types//AT Event//EN
VERSION:1.0
BEGIN:VEVENT
DTSTART:20240222T140000Z
DTEND:20240222T153000Z
DCREATED:20240209T092317Z
UID:ATEvent-472972eb593a44e4b7314ac25db5e706
SEQUENCE:0
LAST-MODIFIED:20240227T092908Z
SUMMARY:Oltre il CBAM per una nuova trade compliance e un commercio internazionale sostenibile
LOCATION:Online
PRIORITY:3
TRANSP:0
END:VEVENT
END:VCALENDAR
