BEGIN:VCALENDAR
PRODID:-//AT Content Types//AT Event//EN
VERSION:1.0
BEGIN:VEVENT
DTSTART:20211216T080000Z
DTEND:20211216T113000Z
DCREATED:20211201T154847Z
UID:ATEvent-7ee9b0c63a7340029118f8440c4e014e
SEQUENCE:0
LAST-MODIFIED:20211202T105654Z
SUMMARY:Olimpiadi dello Spazio\, The Space Generation Games
DESCRIPTION:Partenza dal Pianeta Terra il 16 dicembre 2021\, ore 9.00
LOCATION:On line
PRIORITY:3
TRANSP:0
END:VEVENT
END:VCALENDAR
