BEGIN:VCALENDAR
PRODID:-//AT Content Types//AT Event//EN
VERSION:2.0
METHOD:PUBLISH
BEGIN:VEVENT
DTSTAMP:20260424T214716Z
CREATED:20160715T095018Z
UID:ATEvent-68c00e3533e848a7b6292aa6b5f705dc
LAST-MODIFIED:20160715T095039Z
SUMMARY:Nuovo Regolamento Privacy UE: quasi due anni di tempo per adeguarsi
DTSTART:20160720T160000Z
DTEND:20160720T180000Z
DESCRIPTION:NonSoloEditoria - Milano 2015/2016: evento conclusivo
LOCATION:Milano
CLASS:PUBLIC
END:VEVENT
END:VCALENDAR
