BEGIN:VCALENDAR
PRODID:-//AT Content Types//AT Event//EN
VERSION:2.0
METHOD:PUBLISH
BEGIN:VEVENT
DTSTAMP:20260426T015228Z
CREATED:20161019T134917Z
UID:ATEvent-34369200178b40f6aec325b834c9c1e3
LAST-MODIFIED:20161102T114744Z
SUMMARY:Nuovo Decreto "Campi Elettromagnetici"
DTSTART:20161109T133000Z
DTEND:20161109T163000Z
DESCRIPTION:aspetti normativi e gestionali
LOCATION:Milano
CLASS:PUBLIC
END:VEVENT
END:VCALENDAR
