BEGIN:VCALENDAR
PRODID:-//AT Content Types//AT Event//EN
VERSION:1.0
BEGIN:VEVENT
DTSTART:20160919T123000Z
DTEND:20160919T153000Z
DCREATED:20160907T105753Z
UID:ATEvent-cbd60bf22fb94713b86ece07597d84ff
SEQUENCE:0
LAST-MODIFIED:20160907T105910Z
SUMMARY:Nuovo Accordo Formazione RSPP e ASPP
DESCRIPTION:durata\, contenuti e modalità dei percorsi formativi
LOCATION:Milano
PRIORITY:3
TRANSP:0
END:VEVENT
END:VCALENDAR
